BEGIN:VCALENDAR
PRODID:-//eluceo/ical//2.0/EN
VERSION:2.0
CALSCALE:GREGORIAN
BEGIN:VEVENT
UID:f4db831f5f1bf5ed613f0b12e7b95d40
DTSTAMP:20260423T104730Z
SUMMARY:Pilates im Mondstaubtheater
DESCRIPTION:Pilates für Erwachsene stärkt Körper und Geist. Durch kontro
 llierte Bewegungen aus der Körpermitte verbessern sich Haltung\, Beweglic
 hkeit und Achtsamkeit. Das Training fördert Stabilität\, Körperbewussts
 ein und ein bewusstes\, ganzheitliches Wohlbefinden.
URL:https://www.meinplaner.com
DTSTART;TZID=Europe/Amsterdam:20260423T184000
DTEND;TZID=Europe/Amsterdam:20260423T201000
LOCATION:Horchstr. 2\, 08058 Zwickau
BEGIN:VALARM
ACTION:DISPLAY
DESCRIPTION:Erinnerung: Pilates im Mondstaubtheater beginnt in 1 Stunde
TRIGGER;RELATED=END:-PT1H
END:VALARM
END:VEVENT
BEGIN:VEVENT
UID:4672d3ea91edb5a38db7b0e16f5c3737
DTSTAMP:20260423T104730Z
SUMMARY:Pilates im Mondstaubtheater
DESCRIPTION:Pilates für Erwachsene stärkt Körper und Geist. Durch kontro
 llierte Bewegungen aus der Körpermitte verbessern sich Haltung\, Beweglic
 hkeit und Achtsamkeit. Das Training fördert Stabilität\, Körperbewussts
 ein und ein bewusstes\, ganzheitliches Wohlbefinden.
URL:https://www.meinplaner.com
DTSTART;TZID=Europe/Amsterdam:20260423T121500
DTEND;TZID=Europe/Amsterdam:20260423T134500
LOCATION:Horchstr. 2\, 08058 Zwickau
BEGIN:VALARM
ACTION:DISPLAY
DESCRIPTION:Erinnerung: Pilates im Mondstaubtheater beginnt in 1 Stunde
TRIGGER;RELATED=END:-PT1H
END:VALARM
END:VEVENT
END:VCALENDAR
