BEGIN:VCALENDAR
PRODID:-//eluceo/ical//2.0/EN
VERSION:2.0
CALSCALE:GREGORIAN
BEGIN:VEVENT
UID:0dc68a5ff417841dca6cce0fd1201b29
DTSTAMP:20260426T005609Z
SUMMARY:FamilyJUMP
DESCRIPTION:Das Trampolinspringen nur was für Kinder ist\, wird hier wider
 legt. Denn auch Erwachsene können sich beim Sport mal so richtig auspower
 n. Am meisten Spaß macht JUMP House aber sowieso gemeinsam mit dem günst
 igen FamilyJUMP Ticket für 3 bis 5 Personen.
URL:https://www.meinplaner.com
DTSTART;TZID=Europe/Amsterdam:20260426T100000
DTEND;TZID=Europe/Amsterdam:20260426T190000
LOCATION:Wladimir-Sagorski-Str. 20\, 09122 Chemnitz
BEGIN:VALARM
ACTION:DISPLAY
DESCRIPTION:Erinnerung: FamilyJUMP beginnt in 1 Stunde
TRIGGER;RELATED=END:-PT1H
END:VALARM
END:VEVENT
END:VCALENDAR
