BEGIN:VCALENDAR
PRODID:-//eluceo/ical//2.0/EN
VERSION:2.0
CALSCALE:GREGORIAN
BEGIN:VEVENT
UID:a14614470cc9408ef084cf73ec52d388
DTSTAMP:20260424T113709Z
SUMMARY:Klöppel-Gruppe
DESCRIPTION:Der Schnitz- und Klöppelverein lädt jeden Mittwoch zum gemein
 samen Klöppeln ein. In geselliger Runde werden traditionelle Techniken ge
 pflegt\, Erfahrungen ausgetauscht und handwerkliche Fertigkeiten vertieft 
 – offen für alle Interessierten.
URL:https://www.meinplaner.com
DTSTART;TZID=Europe/Amsterdam:20260429T170000
DTEND;TZID=Europe/Amsterdam:20260429T180000
LOCATION:Max-Wenzel-Str. 1\, 09427 Ehrenfriedersdorf
BEGIN:VALARM
ACTION:DISPLAY
DESCRIPTION:Erinnerung: Klöppel-Gruppe beginnt in 1 Stunde
TRIGGER;RELATED=END:-PT1H
END:VALARM
END:VEVENT
END:VCALENDAR
