BEGIN:VCALENDAR
PRODID:-//eluceo/ical//2.0/EN
VERSION:2.0
CALSCALE:GREGORIAN
BEGIN:VEVENT
UID:b1ad9c6fad2cabbaec35896ea8b4e4bf
DTSTAMP:20260424T002819Z
SUMMARY:Dem besonderen Anlass den besten Rahmen geben
DESCRIPTION:Dieses barocke Schloss bietet mit seinen stilvollen Räumlichke
 iten ein ganz besonderes Ambiente - ob für Hochzeiten\, Firmen- und Famil
 ienfeiern\, Seminare. Ein leidenschaftliches Team geht auf individuelle W
 ünsche ein. So wird jedes Event unvergesslich schön.
URL:https://www.meinplaner.com
DTSTART;TZID=Europe/Amsterdam:20260424T160000
DTEND;TZID=Europe/Amsterdam:20260424T220000
LOCATION:Schlossallee  1\, 09577 Niederwiesa
BEGIN:VALARM
ACTION:DISPLAY
DESCRIPTION:Erinnerung: Dem besonderen Anlass den besten Rahmen geben begin
 nt in 1 Stunde
TRIGGER;RELATED=END:-PT1H
END:VALARM
END:VEVENT
END:VCALENDAR
