BEGIN:VCALENDAR
PRODID:-//eluceo/ical//2.0/EN
VERSION:2.0
CALSCALE:GREGORIAN
BEGIN:VEVENT
UID:f2ffc6c80ea11231d11df82f0c286e97
DTSTAMP:20260420T153759Z
SUMMARY:Theater der Welt: Antuco
DESCRIPTION:In den Anden stirbt eine Gruppe junger Rekruten an Kälte und E
 rschöpfung\, was die Gruppe Silencio Blanco in ihrem Figurentheater eindr
 inglich thematisiert\, indem sie das Schweigen der Hinterbliebenen und die
  Schatten der Vergangenheit in den Fokus rückt.
URL:https://www.meinplaner.com
DTSTART;TZID=Europe/Amsterdam:20260620T210000
DTEND;TZID=Europe/Amsterdam:20260620T230000
LOCATION:Altchemnitzer Str. 27\, 09120 Chemnitz
BEGIN:VALARM
ACTION:DISPLAY
DESCRIPTION:Erinnerung: Theater der Welt: Antuco beginnt in 1 Stunde
TRIGGER;RELATED=END:-PT1H
END:VALARM
END:VEVENT
END:VCALENDAR
