BEGIN:VCALENDAR
PRODID:-//eluceo/ical//2.0/EN
VERSION:2.0
CALSCALE:GREGORIAN
BEGIN:VEVENT
UID:e86de2800912ccb4f9e70f8b82377b9f
DTSTAMP:20260421T194501Z
SUMMARY:Mittagmenü
DESCRIPTION:Jetzt neu: Das Mittagmenü Pasta della Casa wird mit hausgemach
 ter italienischer Limonade di Limone oder Arancia bzw. Tafelwasser servier
 t – zum attraktiven Preis. Genießen lässt sich das Mittagsangebot auch
  auf der Michaelis-Terrasse.
URL:https://www.meinplaner.com
DTSTART;TZID=Europe/Amsterdam:20260421T113000
DTEND;TZID=Europe/Amsterdam:20260421T143000
LOCATION:Düsseldorfer Platz 1\, 09111 Chemnitz
BEGIN:VALARM
ACTION:DISPLAY
DESCRIPTION:Erinnerung: Mittagmenü beginnt in 1 Stunde
TRIGGER;RELATED=END:-PT1H
END:VALARM
END:VEVENT
BEGIN:VEVENT
UID:6f78af68590cf944aec149fdf1f841a5
DTSTAMP:20260421T194501Z
SUMMARY:Mittagmenü
DESCRIPTION:Jetzt neu: Das Mittagmenü Pasta della Casa wird mit hausgemach
 ter italienischer Limonade di Limone oder Arancia bzw. Tafelwasser servier
 t – zum attraktiven Preis. Genießen lässt sich das Mittagsangebot auch
  auf der Michaelis-Terrasse.
URL:https://www.meinplaner.com
DTSTART;TZID=Europe/Amsterdam:20260421T173000
DTEND;TZID=Europe/Amsterdam:20260421T223000
LOCATION:Düsseldorfer Platz 1\, 09111 Chemnitz
BEGIN:VALARM
ACTION:DISPLAY
DESCRIPTION:Erinnerung: Mittagmenü beginnt in 1 Stunde
TRIGGER;RELATED=END:-PT1H
END:VALARM
END:VEVENT
END:VCALENDAR
