BEGIN:VCALENDAR
PRODID:-//eluceo/ical//2.0/EN
VERSION:2.0
CALSCALE:GREGORIAN
BEGIN:VEVENT
UID:680e885a155f2a9f5c0cea3243917da3
DTSTAMP:20260424T072257Z
SUMMARY:Schnuppertour durch die Zwickauer Altstadt
DESCRIPTION:Von den wichtigsten historischen Plätzen und Baudenkmälern de
 r Altstadt ausgehend\, entführt die Schnuppertour in die Stadtgeschichte 
 und Architektur vom Mittelalter bis in die Gegenwart. Interessantes und Sa
 genhaftes aus 900 Jahren Zwickau.
URL:https://www.meinplaner.com
DTSTART;TZID=Europe/Amsterdam:20260425T140000
DTEND;TZID=Europe/Amsterdam:20260425T160000
LOCATION:Hauptstraße 6\, 08056 Zwickau
BEGIN:VALARM
ACTION:DISPLAY
DESCRIPTION:Erinnerung: Schnuppertour durch die Zwickauer Altstadt beginnt 
 in 1 Stunde
TRIGGER;RELATED=END:-PT1H
END:VALARM
END:VEVENT
BEGIN:VEVENT
UID:3d9907d2c7a6f76843253ada5c2a1a84
DTSTAMP:20260424T072257Z
SUMMARY:Schnuppertour durch die Zwickauer Altstadt
DESCRIPTION:Von den wichtigsten historischen Plätzen und Baudenkmälern de
 r Altstadt ausgehend\, entführt die Schnuppertour in die Stadtgeschichte 
 und Architektur vom Mittelalter bis in die Gegenwart. Interessantes und Sa
 genhaftes aus 900 Jahren Zwickau.
URL:https://www.meinplaner.com
DTSTART;TZID=Europe/Amsterdam:20260425T103000
DTEND;TZID=Europe/Amsterdam:20260425T123000
LOCATION:Hauptstraße 6\, 08056 Zwickau
BEGIN:VALARM
ACTION:DISPLAY
DESCRIPTION:Erinnerung: Schnuppertour durch die Zwickauer Altstadt beginnt 
 in 1 Stunde
TRIGGER;RELATED=END:-PT1H
END:VALARM
END:VEVENT
END:VCALENDAR
