BEGIN:VCALENDAR
PRODID:-//eluceo/ical//2.0/EN
VERSION:2.0
CALSCALE:GREGORIAN
BEGIN:VEVENT
UID:932b672db0eb93d02e451c1f423f3ec7
DTSTAMP:20260422T102859Z
SUMMARY:Angebote im Tanzstudio Chemnitz
DESCRIPTION:Das ADTV Tanzstudio Chemnitz bietet eine breite Auswahl an Tanz
 kursen für alle Altersgruppen und Niveaus\, von klassischen Tänzen bis z
 u modernen Trends\, und fördert sowohl das technische Können als auch di
 e Freude am Tanz.
URL:https://www.meinplaner.com
DTSTART;TZID=Europe/Amsterdam:20260422T153000
DTEND;TZID=Europe/Amsterdam:20260422T223000
LOCATION:Schönherrstr. 8\, 09113 Chemnitz
BEGIN:VALARM
ACTION:DISPLAY
DESCRIPTION:Erinnerung: Angebote im Tanzstudio Chemnitz beginnt in 1 Stunde
TRIGGER;RELATED=END:-PT1H
END:VALARM
END:VEVENT
END:VCALENDAR
