BEGIN:VCALENDAR
PRODID:-//eluceo/ical//2.0/EN
VERSION:2.0
CALSCALE:GREGORIAN
BEGIN:VEVENT
UID:e3b7b72e85718267d2004e352b9584e3
DTSTAMP:20260421T191651Z
SUMMARY:Kulinarische Reise nach Indien
DESCRIPTION:Auf der „Gastromeile“ Innere Klosterstraße lädt Inhaber J
 atinder Singh Goraya ein\, sein Land zu genießen. Die köstlichsten Gewü
 rze und Aromen der indischen Küche duften hier und die speziellen Zuberei
 tungen sind wie eine kulinarische eine Reise nach Fernost.
URL:https://www.meinplaner.com
DTSTART;TZID=Europe/Amsterdam:20260421T170000
DTEND;TZID=Europe/Amsterdam:20260421T220000
LOCATION:Innere Klosterstr. 19\, 09111 Chemnitz
BEGIN:VALARM
ACTION:DISPLAY
DESCRIPTION:Erinnerung: Kulinarische Reise nach Indien beginnt in 1 Stunde
TRIGGER;RELATED=END:-PT1H
END:VALARM
END:VEVENT
BEGIN:VEVENT
UID:529ebdedd7e1a2d102811a78e4a94bd2
DTSTAMP:20260421T191651Z
SUMMARY:Kulinarische Reise nach Indien
DESCRIPTION:Auf der „Gastromeile“ Innere Klosterstraße lädt Inhaber J
 atinder Singh Goraya ein\, sein Land zu genießen. Die köstlichsten Gewü
 rze und Aromen der indischen Küche duften hier und die speziellen Zuberei
 tungen sind wie eine kulinarische eine Reise nach Fernost.
URL:https://www.meinplaner.com
DTSTART;TZID=Europe/Amsterdam:20260421T110000
DTEND;TZID=Europe/Amsterdam:20260421T140000
LOCATION:Innere Klosterstr. 19\, 09111 Chemnitz
BEGIN:VALARM
ACTION:DISPLAY
DESCRIPTION:Erinnerung: Kulinarische Reise nach Indien beginnt in 1 Stunde
TRIGGER;RELATED=END:-PT1H
END:VALARM
END:VEVENT
END:VCALENDAR
