BEGIN:VCALENDAR
PRODID:-//eluceo/ical//2.0/EN
VERSION:2.0
CALSCALE:GREGORIAN
BEGIN:VEVENT
UID:c40f38f4c52aa6ec8f32d8ef6c09f95f
DTSTAMP:20260421T175226Z
SUMMARY:Das Erzgebirge\, Burgen und Schlösser - ganz klein aber ooooh!
DESCRIPTION:Ein erlebnisreiches Ziel für alle sind die kleine Häuschen\, 
 große Sehenswürdigkeiten und schönsten sächsischen Burgen und Schlöss
 er. Ob beim Bestaunen der Modelle\, in der Parkeisenbahn\, den Spiel- & Er
 lebnisbereichen oder dem Schauhandwerk - klein\, aber ooooh!
URL:https://www.meinplaner.com
DTSTART;TZID=Europe/Amsterdam:20260422T100000
DTEND;TZID=Europe/Amsterdam:20260422T180000
LOCATION:Gerichtsstr. 5\, 09569 Oederan
BEGIN:VALARM
ACTION:DISPLAY
DESCRIPTION:Erinnerung: Das Erzgebirge\, Burgen und Schlösser - ganz klein
  aber ooooh! beginnt in 1 Stunde
TRIGGER;RELATED=END:-PT1H
END:VALARM
END:VEVENT
END:VCALENDAR
