BEGIN:VCALENDAR
PRODID:-//eluceo/ical//2.0/EN
VERSION:2.0
CALSCALE:GREGORIAN
BEGIN:VEVENT
UID:8e4d5e2ee13106e2aa747bbe5452a5d1
DTSTAMP:20260426T012848Z
SUMMARY:Die Vielfalt der Japanischen Küche​
DESCRIPTION:Yuki in Chemnitz vereint japanische Tradition und moderne Küch
 e in stilvollem Ambiente. Frisches Sushi\, aromatische Ramen und kreative 
 Fusion-Gerichte schaffen ein einzigartiges Geschmackserlebnis. Eine Locati
 on für Genießer und besondere Momente.
URL:https://www.meinplaner.com
DTSTART;TZID=Europe/Amsterdam:20260426T170000
DTEND;TZID=Europe/Amsterdam:20260426T220000
LOCATION:Straße der Nationen 104\, 09111 Chemnitz
BEGIN:VALARM
ACTION:DISPLAY
DESCRIPTION:Erinnerung: Die Vielfalt der Japanischen Küche​ beginnt in 1
  Stunde
TRIGGER;RELATED=END:-PT1H
END:VALARM
END:VEVENT
BEGIN:VEVENT
UID:5ddb52c8523b02ca09737e30dea8fab2
DTSTAMP:20260426T012848Z
SUMMARY:Die Vielfalt der Japanischen Küche​
DESCRIPTION:Yuki in Chemnitz vereint japanische Tradition und moderne Küch
 e in stilvollem Ambiente. Frisches Sushi\, aromatische Ramen und kreative 
 Fusion-Gerichte schaffen ein einzigartiges Geschmackserlebnis. Eine Locati
 on für Genießer und besondere Momente.
URL:https://www.meinplaner.com
DTSTART;TZID=Europe/Amsterdam:20260426T113000
DTEND;TZID=Europe/Amsterdam:20260426T150000
LOCATION:Straße der Nationen 104\, 09111 Chemnitz
BEGIN:VALARM
ACTION:DISPLAY
DESCRIPTION:Erinnerung: Die Vielfalt der Japanischen Küche​ beginnt in 1
  Stunde
TRIGGER;RELATED=END:-PT1H
END:VALARM
END:VEVENT
END:VCALENDAR
