BEGIN:VCALENDAR
PRODID:-//eluceo/ical//2.0/EN
VERSION:2.0
CALSCALE:GREGORIAN
BEGIN:VEVENT
UID:e439d1692d02add7747f877c4d85ce36
DTSTAMP:20260420T153922Z
SUMMARY:Theater der Welt: JO DOOBA SO PAAR
DESCRIPTION:Das Musical aus Mumbai entführt in die Welt des Dichters Amir 
 Khusrau\, dessen Leben und Werk in der traditionellen Dastangoi-Kunstform 
 präsentiert werden und verbindet Magie\, Musik + Poesie zu einer zeitlose
 n Erzählung über Liebe und menschliche Verbundenheit.
URL:https://www.meinplaner.com
DTSTART;TZID=Europe/Amsterdam:20260626T213000
DTEND;TZID=Europe/Amsterdam:20260626T233000
LOCATION:Altchemnitzer Str. 27\, 09120 Chemnitz
BEGIN:VALARM
ACTION:DISPLAY
DESCRIPTION:Erinnerung: Theater der Welt: JO DOOBA SO PAAR beginnt in 1 Stu
 nde
TRIGGER;RELATED=END:-PT1H
END:VALARM
END:VEVENT
END:VCALENDAR
