BEGIN:VCALENDAR
PRODID:-//eluceo/ical//2.0/EN
VERSION:2.0
CALSCALE:GREGORIAN
BEGIN:VEVENT
UID:1f984e5c4cd37579b9543a52583a17cc
DTSTAMP:20260419T133932Z
SUMMARY:Aue-Bad Schlema liest!
DESCRIPTION:Ein „Dienstmädchen“ aus der Zeit um 1900 erzählt aus der 
 Geschichte des Hauses. Ergänzend geben Führungen Einblicke in die Villa 
 eines bekannten Auer Unternehmers und ihre Vergangenheit.
URL:https://www.meinplaner.com
DTSTART;TZID=Europe/Amsterdam:20260422T173000
DTEND;TZID=Europe/Amsterdam:20260422T193000
LOCATION:Postplatz 3\, 08280 Aue-Bad Schlema
BEGIN:VALARM
ACTION:DISPLAY
DESCRIPTION:Erinnerung: Aue-Bad Schlema liest! beginnt in 1 Stunde
TRIGGER;RELATED=END:-PT1H
END:VALARM
END:VEVENT
END:VCALENDAR
