BEGIN:VCALENDAR
PRODID:-//eluceo/ical//2.0/EN
VERSION:2.0
CALSCALE:GREGORIAN
BEGIN:VEVENT
UID:9d4a1dd4231683ebe2ca7a7c4322190a
DTSTAMP:20260426T015435Z
SUMMARY:Klaffenbacher Hochzeit 2.0
DESCRIPTION:Jahre nach der Hochzeit zwischen Paul und Caroline ist wegen Sc
 heidung alles wieder offen. Aber Bürgermeister Paul wäre nicht der Bürg
 ermeister\, wenn er seine Helene nicht doch noch unter die Haube bringen w
 öllte. Ob es diesmal besser klappt?
URL:https://www.meinplaner.com
DTSTART;TZID=Europe/Amsterdam:20260426T180000
DTEND;TZID=Europe/Amsterdam:20260426T200000
LOCATION:Eislebener Str. 8\, 09126 Chemnitz
BEGIN:VALARM
ACTION:DISPLAY
DESCRIPTION:Erinnerung: Klaffenbacher Hochzeit 2.0 beginnt in 1 Stunde
TRIGGER;RELATED=END:-PT1H
END:VALARM
END:VEVENT
END:VCALENDAR
