BEGIN:VCALENDAR
PRODID:-//eluceo/ical//2.0/EN
VERSION:2.0
CALSCALE:GREGORIAN
BEGIN:VEVENT
UID:efab4e1bdd8c5c4f25aa5e3690da71e0
DTSTAMP:20260420T081806Z
SUMMARY:Energieberatung
DESCRIPTION:Die Energieberatung bietet fundierte Informationen zu Energiesp
 aren\, Effizienz und nachhaltigen Lösungen. Individuelle Fragen rund um S
 trom\, Wärme und Sanierung werden verständlich und praxisnah beantwortet
 .
URL:https://www.meinplaner.com
DTSTART;TZID=Europe/Amsterdam:20260521T140000
DTEND;TZID=Europe/Amsterdam:20260521T180000
LOCATION:Max-Wenzel-Str. 1\, 09427 Ehrenfriedersdorf
BEGIN:VALARM
ACTION:DISPLAY
DESCRIPTION:Erinnerung: Energieberatung beginnt in 1 Stunde
TRIGGER;RELATED=END:-PT1H
END:VALARM
END:VEVENT
END:VCALENDAR
