BEGIN:VCALENDAR
PRODID:-//eluceo/ical//2.0/EN
VERSION:2.0
CALSCALE:GREGORIAN
BEGIN:VEVENT
UID:4eaa7bb8df2d34acf50026b439bb5ed2
DTSTAMP:20260419T202248Z
SUMMARY:Tony Cragg: Stack
DESCRIPTION:Die patinierte Bronze der abstrakten Skulptur erinnert an verwi
 tterte Felsen\, verschliffenes Holz oder vulkanische Rauchsäulen. Die ges
 chichteten geometrischen Formen des renommierten Künslters spielen mit de
 r Vorstellung von geologischen Modellen. 
URL:https://www.meinplaner.com
DTSTART;TZID=Europe/Amsterdam:20260419T000000
DTEND;TZID=Europe/Amsterdam:20260419T235900
LOCATION:Grenzweg \, 08280 Aue-Bad Schlema
BEGIN:VALARM
ACTION:DISPLAY
DESCRIPTION:Erinnerung: Tony Cragg: Stack beginnt in 1 Stunde
TRIGGER;RELATED=END:-PT1H
END:VALARM
END:VEVENT
END:VCALENDAR
