BEGIN:VCALENDAR
PRODID:-//eluceo/ical//2.0/EN
VERSION:2.0
CALSCALE:GREGORIAN
BEGIN:VEVENT
UID:8041c89a5dba77961d799efebb277f58
DTSTAMP:20260423T112426Z
SUMMARY:Bergbaurundweg
DESCRIPTION:Der Bergbaurundweg führt vom Rathausplatz in Oelsnitz zum Eise
 nbahnviadukt und weiter zur Halde Deutschland-Schacht\, wo historische Auf
 schüttungen und 300 Millionen Jahre alte Pflanzenabdrücke entdeckt werde
 n können.
URL:https://www.meinplaner.com
DTSTART;TZID=Europe/Amsterdam:20260423T000000
DTEND;TZID=Europe/Amsterdam:20260423T235900
LOCATION:Rathausplatz 1\, 09376 Oelsnitz/Erzgeb.
BEGIN:VALARM
ACTION:DISPLAY
DESCRIPTION:Erinnerung: Bergbaurundweg beginnt in 1 Stunde
TRIGGER;RELATED=END:-PT1H
END:VALARM
END:VEVENT
END:VCALENDAR
