BEGIN:VCALENDAR
PRODID:-//eluceo/ical//2.0/EN
VERSION:2.0
CALSCALE:GREGORIAN
BEGIN:VEVENT
UID:f716c9294261159d223056d497729d29
DTSTAMP:20260419T142303Z
SUMMARY:Ringvorlesung Jüdische Kultur und Erinnerung im transnationalen Ko
 ntext
DESCRIPTION:Eine interdisziplinäre Ringvorlesung zu jüdischer Kultur\, Ge
 schichte & Erinnerung beleuchtet jüdisches Leben in Vergangenheit und Geg
 enwart. Literatur\, Kunst\, Exil\, Verfolgung & Erinnerungskultur stehen e
 benso im Fokus wie regionale und transnationale Bezüge.
URL:https://www.meinplaner.com
DTSTART;TZID=Europe/Amsterdam:20260422T160000
DTEND;TZID=Europe/Amsterdam:20260422T180000
LOCATION:Stefan-Heym-Platz 1\, 09111 Chemnitz
BEGIN:VALARM
ACTION:DISPLAY
DESCRIPTION:Erinnerung: Ringvorlesung Jüdische Kultur und Erinnerung im tr
 ansnationalen Kontext beginnt in 1 Stunde
TRIGGER;RELATED=END:-PT1H
END:VALARM
END:VEVENT
END:VCALENDAR
