BEGIN:VCALENDAR
PRODID:-//eluceo/ical//2.0/EN
VERSION:2.0
CALSCALE:GREGORIAN
BEGIN:VEVENT
UID:6f7d4231a00d4cab140c6eafaca31154
DTSTAMP:20260420T154210Z
SUMMARY:Das hässliche Entlein
DESCRIPTION:Sehnsüchtig wartet die Entenmutter auf ihr letztes Küken\, da
 s größer\, grauer und anders ist als die anderen. Vom Spott getrieben zi
 eht es hinaus\, wächst über sich hinaus und lernt\, wer es wirklich ist 
 – begleitet von einem Spieler auf dieser Reise.
URL:https://www.meinplaner.com
DTSTART;TZID=Europe/Amsterdam:20260503T160000
DTEND;TZID=Europe/Amsterdam:20260503T180000
LOCATION:Altchemnitzer Str. 27\, 09120 Chemnitz
BEGIN:VALARM
ACTION:DISPLAY
DESCRIPTION:Erinnerung: Das hässliche Entlein beginnt in 1 Stunde
TRIGGER;RELATED=END:-PT1H
END:VALARM
END:VEVENT
END:VCALENDAR
