BEGIN:VCALENDAR
PRODID:-//eluceo/ical//2.0/EN
VERSION:2.0
CALSCALE:GREGORIAN
BEGIN:VEVENT
UID:01841ea25dbb130b8a46049e8778b434
DTSTAMP:20260419T163429Z
SUMMARY:Einzigartig\, nicht nur im Geschmack
DESCRIPTION:Sich einmal wie in „1000 und einer Nacht“ fühlen. Berausch
 en lassen und dem Rauschen lauschen - im "Malula" direkt am Chemnitzfluss.
  Hier lädt die Welt des Orient ein. Syrische Spezialitäten gewürzt mit 
 Koriander\, Kardamom\, Safran und Zimt feiern das Leben.
URL:https://www.meinplaner.com
DTSTART;TZID=Europe/Amsterdam:20260419T110000
DTEND;TZID=Europe/Amsterdam:20260419T140000
LOCATION:Georgstr. 21\, 09111 Chemnitz
BEGIN:VALARM
ACTION:DISPLAY
DESCRIPTION:Erinnerung: Einzigartig\, nicht nur im Geschmack beginnt in 1 S
 tunde
TRIGGER;RELATED=END:-PT1H
END:VALARM
END:VEVENT
BEGIN:VEVENT
UID:5c301fc7e192f119b89623753f07a2c1
DTSTAMP:20260419T163429Z
SUMMARY:Einzigartig\, nicht nur im Geschmack
DESCRIPTION:Sich einmal wie in „1000 und einer Nacht“ fühlen. Berausch
 en lassen und dem Rauschen lauschen - im "Malula" direkt am Chemnitzfluss.
  Hier lädt die Welt des Orient ein. Syrische Spezialitäten gewürzt mit 
 Koriander\, Kardamom\, Safran und Zimt feiern das Leben.
URL:https://www.meinplaner.com
DTSTART;TZID=Europe/Amsterdam:20260419T173000
DTEND;TZID=Europe/Amsterdam:20260419T230000
LOCATION:Georgstr. 21\, 09111 Chemnitz
BEGIN:VALARM
ACTION:DISPLAY
DESCRIPTION:Erinnerung: Einzigartig\, nicht nur im Geschmack beginnt in 1 S
 tunde
TRIGGER;RELATED=END:-PT1H
END:VALARM
END:VEVENT
END:VCALENDAR
