BEGIN:VCALENDAR
PRODID:-//eluceo/ical//2.0/EN
VERSION:2.0
CALSCALE:GREGORIAN
BEGIN:VEVENT
UID:aa10a4b4c2370e427c94f1b17829aa01
DTSTAMP:20260426T023740Z
SUMMARY:Party am Freitag - Speziell Halbgeil für Erwachsene
DESCRIPTION:Mit Lizzy und Halbsteif live auf der Bühne und DJ Cat an den D
 ecks wird der Freitag zur Partynacht. Treibende Beats\, energiegeladene Sh
 ows und ausgelassene Stimmung sorgen für einen intensiven Clubabend. 🔥
 🎶
URL:https://www.meinplaner.com
DTSTART;TZID=Europe/Amsterdam:20260508T210000
DTEND;TZID=Europe/Amsterdam:20260509T010000
LOCATION:Chemnitzer Str. 2\, 09232 Hartmannsdorf
BEGIN:VALARM
ACTION:DISPLAY
DESCRIPTION:Erinnerung: Party am Freitag - Speziell Halbgeil für Erwachsen
 e beginnt in 1 Stunde
TRIGGER;RELATED=END:-PT1H
END:VALARM
END:VEVENT
END:VCALENDAR
