BEGIN:VCALENDAR
PRODID:-//eluceo/ical//2.0/EN
VERSION:2.0
CALSCALE:GREGORIAN
BEGIN:VEVENT
UID:0d5f4028da750e828774028bc042fd20
DTSTAMP:20260424T071947Z
SUMMARY:Rüsseltiere
DESCRIPTION:Eine Sonderausstellung im Museum für Naturkunde beleuchtet die
  Evolution der Rüsseltiere. Fossilien aus der Sammlung machen die Entwick
 lung von Elefant\, Mammut und Co. anschaulich erlebbar – von frühen Vor
 fahren bis in die Gegenwart.
URL:https://www.meinplaner.com
DTSTART;TZID=Europe/Amsterdam:20260424T090000
DTEND;TZID=Europe/Amsterdam:20260424T170000
LOCATION:Moritzstr. 20\, 09111 Chemnitz
BEGIN:VALARM
ACTION:DISPLAY
DESCRIPTION:Erinnerung: Rüsseltiere beginnt in 1 Stunde
TRIGGER;RELATED=END:-PT1H
END:VALARM
END:VEVENT
END:VCALENDAR
