BEGIN:VCALENDAR
PRODID:-//eluceo/ical//2.0/EN
VERSION:2.0
CALSCALE:GREGORIAN
BEGIN:VEVENT
UID:5a745ddf936e12044a67e5f31d1d9c40
DTSTAMP:20260424T205433Z
SUMMARY:Hoppers
DESCRIPTION:In HOPPERS entdecken Wissenschaftler eine Technik\, mit der men
 schliches Bewusstsein in lebensechte Robotertiere springt. So können Mens
 chen als Tiere mit Tieren sprechen. Mabel entdeckt dabei unglaubliche Gehe
 imnisse der Tierwelt.
URL:https://www.meinplaner.com
DTSTART;TZID=Europe/Amsterdam:20260425T154500
DTEND;TZID=Europe/Amsterdam:20260425T174500
LOCATION:Neustädter Ring  2\, 08340 Schwarzenberg/Erzgeb.
BEGIN:VALARM
ACTION:DISPLAY
DESCRIPTION:Erinnerung: Hoppers beginnt in 1 Stunde
TRIGGER;RELATED=END:-PT1H
END:VALARM
END:VEVENT
BEGIN:VEVENT
UID:747156062ee1dca6492a9c0a3b51fb66
DTSTAMP:20260424T205433Z
SUMMARY:Hoppers
DESCRIPTION:In HOPPERS entdecken Wissenschaftler eine Technik\, mit der men
 schliches Bewusstsein in lebensechte Robotertiere springt. So können Mens
 chen als Tiere mit Tieren sprechen. Mabel entdeckt dabei unglaubliche Gehe
 imnisse der Tierwelt.
URL:https://www.meinplaner.com
DTSTART;TZID=Europe/Amsterdam:20260425T133000
DTEND;TZID=Europe/Amsterdam:20260425T153000
LOCATION:Neustädter Ring  2\, 08340 Schwarzenberg/Erzgeb.
BEGIN:VALARM
ACTION:DISPLAY
DESCRIPTION:Erinnerung: Hoppers beginnt in 1 Stunde
TRIGGER;RELATED=END:-PT1H
END:VALARM
END:VEVENT
END:VCALENDAR
