BEGIN:VCALENDAR
PRODID:-//eluceo/ical//2.0/EN
VERSION:2.0
CALSCALE:GREGORIAN
BEGIN:VEVENT
UID:6e92ce52e3a20292e9d2b25184e293f0
DTSTAMP:20260425T154542Z
SUMMARY:Alte Tenne - historische\, landwirtschaftliche Geräte
DESCRIPTION:Die Alte Tenne präsentiert in der Böttcherfabrik eine faszini
 erende Ausstellung historischer\, landwirtschaftlicher Geräte\, die einen
  Einblick in die Entwicklung der Agrartechnologie und die Bedeutung dieser
  Werkzeuge für die ländliche Kultur bieten.
URL:https://www.meinplaner.com
DTSTART;TZID=Europe/Amsterdam:20260425T130000
DTEND;TZID=Europe/Amsterdam:20260425T170000
LOCATION:Ratsseite-Dorfstr. 112\, 09496 Marienberg
BEGIN:VALARM
ACTION:DISPLAY
DESCRIPTION:Erinnerung: Alte Tenne - historische\, landwirtschaftliche Ger
 äte beginnt in 1 Stunde
TRIGGER;RELATED=END:-PT1H
END:VALARM
END:VEVENT
END:VCALENDAR
