BEGIN:VCALENDAR
PRODID:-//eluceo/ical//2.0/EN
VERSION:2.0
CALSCALE:GREGORIAN
BEGIN:VEVENT
UID:7151336b0150f7e19d66171a4b44d8e0
DTSTAMP:20260423T194145Z
SUMMARY:Theaterführung: Die skandalöse Herzogin
DESCRIPTION:Es klingt skandalös. Eine Herzogin erwacht leicht bekleidet un
 d ohne Erinnerung an die letzte Nacht. Was ist geschehen? Welche Folgen wi
 rd es haben? Bei der Suche nach der Kleidung folgen die Gäste bei einem s
 pannenden Schauspiel der Adligen durch das Schloss.
URL:https://www.meinplaner.com
DTSTART;TZID=Europe/Amsterdam:20260502T170000
DTEND;TZID=Europe/Amsterdam:20260502T180000
LOCATION:Sörnziger Weg 1\, 09306 Rochlitz
BEGIN:VALARM
ACTION:DISPLAY
DESCRIPTION:Erinnerung: Theaterführung: Die skandalöse Herzogin beginnt i
 n 1 Stunde
TRIGGER;RELATED=END:-PT1H
END:VALARM
END:VEVENT
END:VCALENDAR
