BEGIN:VCALENDAR
PRODID:-//eluceo/ical//2.0/EN
VERSION:2.0
CALSCALE:GREGORIAN
BEGIN:VEVENT
UID:1c501d45e7c79fb09f3991c890c44e65
DTSTAMP:20260420T005849Z
SUMMARY:Professionelle Schminktipps
DESCRIPTION:Kosmetikmeisterin Karen Beier teilt ihre Geheimnisse für ein u
 mwerfendes Make-up und zeigt\, wie man mit professionellen Schminktechnike
 n strahlend in den Tag startet.
URL:https://www.meinplaner.com
DTSTART;TZID=Europe/Amsterdam:20260423T183000
DTEND;TZID=Europe/Amsterdam:20260423T203000
LOCATION:Freiberger Str. 33\, 09488 Thermalbad Wiesenbad
BEGIN:VALARM
ACTION:DISPLAY
DESCRIPTION:Erinnerung: Professionelle Schminktipps beginnt in 1 Stunde
TRIGGER;RELATED=END:-PT1H
END:VALARM
END:VEVENT
END:VCALENDAR
