BEGIN:VCALENDAR
PRODID:-//eluceo/ical//2.0/EN
VERSION:2.0
CALSCALE:GREGORIAN
BEGIN:VEVENT
UID:9fc55dae102e95b37bc8be5e7372b680
DTSTAMP:20260422T222241Z
SUMMARY:Ergometer Circuit
DESCRIPTION:Ein intensives Zirkeltraining auf verschiedenen Cardiogeräten:
  In kurzen Intervallen wechseln sich Fahrrad-\, Ruder- und weitere Station
 en ab und sorgen für effektives Ausdauer- und Krafttraining. Dynamisch\, 
 abwechslungsreich und ideal für die Fitness. 🚴‍♂️🔥
URL:https://www.meinplaner.com
DTSTART;TZID=Europe/Amsterdam:20260423T070000
DTEND;TZID=Europe/Amsterdam:20260423T220000
LOCATION:Rabenberg \, 08353 Breitenbrunn/Erzgeb.
BEGIN:VALARM
ACTION:DISPLAY
DESCRIPTION:Erinnerung: Ergometer Circuit beginnt in 1 Stunde
TRIGGER;RELATED=END:-PT1H
END:VALARM
END:VEVENT
END:VCALENDAR
