BEGIN:VCALENDAR
PRODID:-//eluceo/ical//2.0/EN
VERSION:2.0
CALSCALE:GREGORIAN
BEGIN:VEVENT
UID:a8a578c874845ae1506549f60388eb34
DTSTAMP:20260424T071947Z
SUMMARY:Ausstellung: Digitale Grafik auf Papier
DESCRIPTION:Die Ausstellung »Digitale Grafik auf Papier« zeigt ausgewähl
 te Arbeiten eines bundesweiten Wettbewerbs. Präsentiert werden zeitgenös
 sische Positionen zwischen digitaler Bildfindung und grafischem Ausdruck a
 uf Papier.
URL:https://www.meinplaner.com
DTSTART;TZID=Europe/Amsterdam:20260424T110000
DTEND;TZID=Europe/Amsterdam:20260424T170000
LOCATION:Moritzstr. 20\, 09111 Chemnitz
BEGIN:VALARM
ACTION:DISPLAY
DESCRIPTION:Erinnerung: Ausstellung: Digitale Grafik auf Papier beginnt in 
 1 Stunde
TRIGGER;RELATED=END:-PT1H
END:VALARM
END:VEVENT
END:VCALENDAR
