BEGIN:VCALENDAR
PRODID:-//eluceo/ical//2.0/EN
VERSION:2.0
CALSCALE:GREGORIAN
BEGIN:VEVENT
UID:c7d633684b5974b561dd6a07552b8b51
DTSTAMP:20260421T233538Z
SUMMARY:Von der Erde ins Universum
DESCRIPTION:Der Nachthimmel ist wunderschön und beherbergt gleichzeitig un
 zählige Geheimnisse. Mehr über die Entdeckung des Himmels ist in dieser 
 Show zu erleben. Die Reise beginnt mit den Astronomen im alten Griechenlan
 d & endet bei den größten & modernsten Teleskopen.
URL:https://www.meinplaner.com
DTSTART;TZID=Europe/Amsterdam:20260424T160000
DTEND;TZID=Europe/Amsterdam:20260424T180000
LOCATION:Heinrich-Heine-Str. 13 a \, 08289 Schneeberg
BEGIN:VALARM
ACTION:DISPLAY
DESCRIPTION:Erinnerung: Von der Erde ins Universum beginnt in 1 Stunde
TRIGGER;RELATED=END:-PT1H
END:VALARM
END:VEVENT
END:VCALENDAR
