BEGIN:VCALENDAR
PRODID:-//eluceo/ical//2.0/EN
VERSION:2.0
CALSCALE:GREGORIAN
BEGIN:VEVENT
UID:6fe40658670ca2608683191fcfed672c
DTSTAMP:20260420T104806Z
SUMMARY:Kletter-Schnupperkurs
DESCRIPTION:Noch nie selbst schwindelerregende Höhen erklettert? Das tolle
  Gefühl erlebt\, endlich oben angekommen zu sein? Wer das mal erleben mö
 chte\, für den ist dieser Schnupperkurs perfekt!
URL:https://www.meinplaner.com
DTSTART;TZID=Europe/Amsterdam:20260420T140000
DTEND;TZID=Europe/Amsterdam:20260420T160000
LOCATION:Moritzstraße 45\, 08056 Zwickau
BEGIN:VALARM
ACTION:DISPLAY
DESCRIPTION:Erinnerung: Kletter-Schnupperkurs beginnt in 1 Stunde
TRIGGER;RELATED=END:-PT1H
END:VALARM
END:VEVENT
END:VCALENDAR
