BEGIN:VCALENDAR
PRODID:-//eluceo/ical//2.0/EN
VERSION:2.0
CALSCALE:GREGORIAN
BEGIN:VEVENT
UID:bb78c98b9cd54c8828149f8681359a39
DTSTAMP:20260419T223640Z
SUMMARY:Barfuß­pfad mit Wasser­tretbe­cken
DESCRIPTION:Der Barfußpfad mit Wassertretbecken bietet abwechslungsreiche 
 Sinneseindrücke und positive Effekte wie verbesserte Durchblutung\, Kreis
 laufanregung\, Linderung von Migräne und Venenkräftigung – eine Wohlta
 t für Körper und Sinne.
URL:https://www.meinplaner.com
DTSTART;TZID=Europe/Amsterdam:20260420T100000
DTEND;TZID=Europe/Amsterdam:20260420T220000
LOCATION:Rabenberg \, 08353 Breitenbrunn/Erzgeb.
BEGIN:VALARM
ACTION:DISPLAY
DESCRIPTION:Erinnerung: Barfuß­pfad mit Wasser­tretbe­cken beginnt in 1
  Stunde
TRIGGER;RELATED=END:-PT1H
END:VALARM
END:VEVENT
END:VCALENDAR
