BEGIN:VCALENDAR
PRODID:-//eluceo/ical//2.0/EN
VERSION:2.0
CALSCALE:GREGORIAN
BEGIN:VEVENT
UID:56afeb065269eadd0df9939183beab74
DTSTAMP:20260419T181232Z
SUMMARY:Horst Schlämmer sucht das Glück
DESCRIPTION:Horst Schlämmer\, stellv. Chefredakteur des "Grevenbroicher Ta
 gblatt"\, begibt sich auf eine abenteuerliche Reise durch Deutschland\, um
  das Lächeln der Menschen zurückzubringen\, während er Passanten\, Prom
 is und Psychologen nach dem Geheimnis des Glücks befragt.
URL:https://www.meinplaner.com
DTSTART;TZID=Europe/Amsterdam:20260421T173000
DTEND;TZID=Europe/Amsterdam:20260421T193000
LOCATION:Neustädter Ring  2\, 08340 Schwarzenberg/Erzgeb.
BEGIN:VALARM
ACTION:DISPLAY
DESCRIPTION:Erinnerung: Horst Schlämmer sucht das Glück beginnt in 1 Stun
 de
TRIGGER;RELATED=END:-PT1H
END:VALARM
END:VEVENT
END:VCALENDAR
