BEGIN:VCALENDAR
PRODID:-//eluceo/ical//2.0/EN
VERSION:2.0
CALSCALE:GREGORIAN
BEGIN:VEVENT
UID:aec4da0a02bf200b0c509a277a6f9cd1
DTSTAMP:20260420T230500Z
SUMMARY:Kreativangebot Filzen
DESCRIPTION:Mit Seife und warmem Wasser entstehen unter Anleitung von Frau 
 Sachse aus bunter Schafwolle nützliche Gebrauchsgegenstände und kleine K
 unstwerke. Ort: Kurparkhalle Filzladen. 
URL:https://www.meinplaner.com
DTSTART;TZID=Europe/Amsterdam:20260423T190000
DTEND;TZID=Europe/Amsterdam:20260423T210000
LOCATION:Freiberger Str. 33\, 09488 Thermalbad Wiesenbad
BEGIN:VALARM
ACTION:DISPLAY
DESCRIPTION:Erinnerung: Kreativangebot Filzen beginnt in 1 Stunde
TRIGGER;RELATED=END:-PT1H
END:VALARM
END:VEVENT
END:VCALENDAR
