BEGIN:VCALENDAR
PRODID:-//eluceo/ical//2.0/EN
VERSION:2.0
CALSCALE:GREGORIAN
BEGIN:VEVENT
UID:412c001ac6a3037534640a4c2ade63e1
DTSTAMP:20260424T002803Z
SUMMARY:Pferd am Stiel - Ein Hobby-Horsing-Abenteuer
DESCRIPTION:Im Film "Pferd am Stiel" entdecken die Freundinnen Sarah und Di
 lek das Hobby Horsing\, das zunächst für Spott sorgt\, doch nach einem S
 treit findet Sarah in Beatrice eine neue Freundin und wagt mit ihr das Abe
 nteuer einer Meisterschaft in Finnland.
URL:https://www.meinplaner.com
DTSTART;TZID=Europe/Amsterdam:20260424T173000
DTEND;TZID=Europe/Amsterdam:20260424T193000
LOCATION:Poetenweg 6-8\, 08056 Zwickau
BEGIN:VALARM
ACTION:DISPLAY
DESCRIPTION:Erinnerung: Pferd am Stiel - Ein Hobby-Horsing-Abenteuer beginn
 t in 1 Stunde
TRIGGER;RELATED=END:-PT1H
END:VALARM
END:VEVENT
BEGIN:VEVENT
UID:a9913a08f953a8c3305db95c8c2612af
DTSTAMP:20260424T002803Z
SUMMARY:Pferd am Stiel - Ein Hobby-Horsing-Abenteuer
DESCRIPTION:Im Film "Pferd am Stiel" entdecken die Freundinnen Sarah und Di
 lek das Hobby Horsing\, das zunächst für Spott sorgt\, doch nach einem S
 treit findet Sarah in Beatrice eine neue Freundin und wagt mit ihr das Abe
 nteuer einer Meisterschaft in Finnland.
URL:https://www.meinplaner.com
DTSTART;TZID=Europe/Amsterdam:20260424T143500
DTEND;TZID=Europe/Amsterdam:20260424T163500
LOCATION:Poetenweg 6-8\, 08056 Zwickau
BEGIN:VALARM
ACTION:DISPLAY
DESCRIPTION:Erinnerung: Pferd am Stiel - Ein Hobby-Horsing-Abenteuer beginn
 t in 1 Stunde
TRIGGER;RELATED=END:-PT1H
END:VALARM
END:VEVENT
END:VCALENDAR
