BEGIN:VCALENDAR
PRODID:-//eluceo/ical//2.0/EN
VERSION:2.0
CALSCALE:GREGORIAN
BEGIN:VEVENT
UID:82dbd824533df15a9299a68a229f7bbf
DTSTAMP:20260422T225439Z
SUMMARY:Sensen lernen mit Dengeln
DESCRIPTION:Eine alte Handwerkstechnik neu entdecken: Der Workshop vermitte
 lt Grundlagen im Umgang mit der Sense\, gibt Einblicke in Mahdzeitpunkte u
 nd zeigt das Dengeln der Sensenblätter. Praktische Übungen machen tradit
 ionelles Handwerk erlebbar. 🌿🛠️
URL:https://www.meinplaner.com
DTSTART;TZID=Europe/Amsterdam:20260509T100000
DTEND;TZID=Europe/Amsterdam:20260509T140000
LOCATION:Hauptmarkt 1\, 09366 Stollberg/Erzgeb.
BEGIN:VALARM
ACTION:DISPLAY
DESCRIPTION:Erinnerung: Sensen lernen mit Dengeln beginnt in 1 Stunde
TRIGGER;RELATED=END:-PT1H
END:VALARM
END:VEVENT
END:VCALENDAR
