BEGIN:VCALENDAR
PRODID:-//eluceo/ical//2.0/EN
VERSION:2.0
CALSCALE:GREGORIAN
BEGIN:VEVENT
UID:595b631d62ba6c1777fad84131ec42db
DTSTAMP:20260419T124526Z
SUMMARY:Studi-Tag in der KostBar
DESCRIPTION:Dienstags-Deal für Studis: Zu jedem Hauptgericht gibt’s eine
  0\,4-Liter-Erfrischung gratis – wahlweise Wasser\, Softdrink oder hausg
 emachte Schorle.
URL:https://www.meinplaner.com
DTSTART;TZID=Europe/Amsterdam:20260421T170000
DTEND;TZID=Europe/Amsterdam:20260421T230000
LOCATION:Theaterstr. 11\, 09111 Chemnitz
BEGIN:VALARM
ACTION:DISPLAY
DESCRIPTION:Erinnerung: Studi-Tag in der KostBar beginnt in 1 Stunde
TRIGGER;RELATED=END:-PT1H
END:VALARM
END:VEVENT
END:VCALENDAR
