BEGIN:VCALENDAR
PRODID:-//eluceo/ical//2.0/EN
VERSION:2.0
CALSCALE:GREGORIAN
BEGIN:VEVENT
UID:e446a409277e40ea2368ffcb708bb82d
DTSTAMP:20260420T154220Z
SUMMARY:Das Tagebuch der Anne Frank
DESCRIPTION:Anne Franks Tagebuch über ihr Leben im Holocaust inspiriert bi
 s heute\, etwa Grigori Frid\, der daraus eine Oper schuf – ein Werk\, da
 s die zeitlose Botschaft von Hoffnung und Menschlichkeit eindrucksvoll bet
 ont.
URL:https://www.meinplaner.com
DTSTART;TZID=Europe/Amsterdam:20260428T200000
DTEND;TZID=Europe/Amsterdam:20260428T220000
LOCATION:Str. der Nationen 33\, 09111 Chemnitz
BEGIN:VALARM
ACTION:DISPLAY
DESCRIPTION:Erinnerung: Das Tagebuch der Anne Frank beginnt in 1 Stunde
TRIGGER;RELATED=END:-PT1H
END:VALARM
END:VEVENT
END:VCALENDAR
