BEGIN:VCALENDAR
PRODID:-//eluceo/ical//2.0/EN
VERSION:2.0
CALSCALE:GREGORIAN
BEGIN:VEVENT
UID:d633a729b630b8a794dda8376dfeb9a2
DTSTAMP:20260419T132811Z
SUMMARY:Strive for cash
DESCRIPTION:Mit Hip-Hop/Trap Vibes und mit einem Mix aus Pop/Hits auf 2 Flo
 ors geht’s rein ins Partyvergnügen.
URL:https://www.meinplaner.com
DTSTART;TZID=Europe/Amsterdam:20260508T230000
DTEND;TZID=Europe/Amsterdam:20260509T050000
LOCATION:Reichenhainer Str.  1\, 09111 Chemnitz
BEGIN:VALARM
ACTION:DISPLAY
DESCRIPTION:Erinnerung: Strive for cash beginnt in 1 Stunde
TRIGGER;RELATED=END:-PT1H
END:VALARM
END:VEVENT
END:VCALENDAR
