BEGIN:VCALENDAR
PRODID:-//eluceo/ical//2.0/EN
VERSION:2.0
CALSCALE:GREGORIAN
BEGIN:VEVENT
UID:d988d8a3578b33b6af90246b1790293c
DTSTAMP:20260422T123412Z
SUMMARY:Altes Kräuterwissen
DESCRIPTION:Der Kurs vermittelt traditionelles Wissen über Heilpflanzen\, 
 ihre Erkennungsmerkmale und Anwendungen. Bewährte Rezepturen werden erkun
 det\, während praktische Einheiten zum Rühren\, Mischen und Ausprobieren
  einladen.
URL:https://www.meinplaner.com
DTSTART;TZID=Europe/Amsterdam:20260822T133000
DTEND;TZID=Europe/Amsterdam:20260822T173000
LOCATION:Gahlenzer Str. 105\, 09569 Oederan
BEGIN:VALARM
ACTION:DISPLAY
DESCRIPTION:Erinnerung: Altes Kräuterwissen beginnt in 1 Stunde
TRIGGER;RELATED=END:-PT1H
END:VALARM
END:VEVENT
END:VCALENDAR
