BEGIN:VCALENDAR
PRODID:-//eluceo/ical//2.0/EN
VERSION:2.0
CALSCALE:GREGORIAN
BEGIN:VEVENT
UID:0ae34bc2f9adbfc527069384d3d248ef
DTSTAMP:20260422T123404Z
SUMMARY:Angebote mumm Fitness
DESCRIPTION:In den modernen und angenehmen Räumlichkeiten geht es um das T
 raining von Muskeln & Ausdauer und gleichzeitig um Gesundheit als Basis f
 ür einen kraftvollen Körper. 
URL:https://www.meinplaner.com
DTSTART;TZID=Europe/Amsterdam:20260422T090000
DTEND;TZID=Europe/Amsterdam:20260422T220000
LOCATION:Meißner Ring 6\, 09599 Freiberg
BEGIN:VALARM
ACTION:DISPLAY
DESCRIPTION:Erinnerung: Angebote mumm Fitness beginnt in 1 Stunde
TRIGGER;RELATED=END:-PT1H
END:VALARM
END:VEVENT
END:VCALENDAR
