BEGIN:VCALENDAR
PRODID:-//eluceo/ical//2.0/EN
VERSION:2.0
CALSCALE:GREGORIAN
BEGIN:VEVENT
UID:fb0724ca5767551a5761eac50b4664c2
DTSTAMP:20260425T225656Z
SUMMARY:Feldbahn Niederwürschnitz
DESCRIPTION:Ein Erlebnis für Groß und Klein. Die Feldbahn & die Originall
 oks aus den 1950er Jahren sind Hingucker! Bei einer 20-minütigen Fahrt ü
 ber das gesamte Gelände können sowohl die Anlagen der ehemaligen Ziegele
 i als auch die einmalige Landschaft bewundert werden.
URL:https://www.meinplaner.com
DTSTART;TZID=Europe/Amsterdam:20260426T120000
DTEND;TZID=Europe/Amsterdam:20260426T170000
LOCATION:Nach den Steegen  2\, 09399 Niederwürschnitz
BEGIN:VALARM
ACTION:DISPLAY
DESCRIPTION:Erinnerung: Feldbahn Niederwürschnitz beginnt in 1 Stunde
TRIGGER;RELATED=END:-PT1H
END:VALARM
END:VEVENT
END:VCALENDAR
