BEGIN:VCALENDAR
PRODID:-//eluceo/ical//2.0/EN
VERSION:2.0
CALSCALE:GREGORIAN
BEGIN:VEVENT
UID:6d34ebe67832bb02c652a554a0ddf73b
DTSTAMP:20260426T014000Z
SUMMARY:KUNST IN BEWEGUNG: Zeichenkurs während der Tanzprobe
DESCRIPTION:Der Kurs bietet eine einzigartige Gelegenheit\, unter der Anlei
 tung von Kathi Halama und Valeria Gambino die Verbindung von Tanz und Zeic
 hnung zu erkunden\, während Teilnehmer durch Figurenstudien ein tieferes 
 Verständnis für Bewegung und Anatomie entwickeln.
URL:https://www.meinplaner.com
DTSTART;TZID=Europe/Amsterdam:20260426T140000
DTEND;TZID=Europe/Amsterdam:20260426T170000
LOCATION:Wasserschloßweg 6\, 09123 Chemnitz
BEGIN:VALARM
ACTION:DISPLAY
DESCRIPTION:Erinnerung: KUNST IN BEWEGUNG: Zeichenkurs während der Tanzpro
 be beginnt in 1 Stunde
TRIGGER;RELATED=END:-PT1H
END:VALARM
END:VEVENT
END:VCALENDAR
