BEGIN:VCALENDAR
PRODID:-//eluceo/ical//2.0/EN
VERSION:2.0
CALSCALE:GREGORIAN
BEGIN:VEVENT
UID:b4fe69821ad0b5e23734df869aeb546f
DTSTAMP:20260421T102555Z
SUMMARY:Carl Emanuel Wolff: Wildschweine
DESCRIPTION:Wildschweine\, so heißt es\, hätten einst auf Futtersuche in 
 Ehrenfriedersdorf das erste Zinnerz freigelegt. Das prägte den Ort - und 
 so enthält die patinierte Rotgussbronze des Dresdner Bildhauers auch Zinn
  und Arbeitsspuren\, eingearbeitet mit bloßen Händen.  
URL:https://www.meinplaner.com
DTSTART;TZID=Europe/Amsterdam:20260421T000000
DTEND;TZID=Europe/Amsterdam:20260421T235900
LOCATION:Am Sauberg \, 09427 Ehrenfriedersdorf
BEGIN:VALARM
ACTION:DISPLAY
DESCRIPTION:Erinnerung: Carl Emanuel Wolff: Wildschweine beginnt in 1 Stund
 e
TRIGGER;RELATED=END:-PT1H
END:VALARM
END:VEVENT
END:VCALENDAR
