BEGIN:VCALENDAR
PRODID:-//eluceo/ical//2.0/EN
VERSION:2.0
CALSCALE:GREGORIAN
BEGIN:VEVENT
UID:f77cca8df709ca80f431216fbf1ce625
DTSTAMP:20260423T015340Z
SUMMARY:Bergmann­stammtisch: Erzgebirgische Waldgeschichte
DESCRIPTION:Der Bergmannstammtisch widmet sich der Entwicklung der erzgebir
 gischen Waldlandschaft seit der Besiedlung im 12. Jahrhundert. Im Mittelpu
 nkt stehen Holzbedarf\, Bergbau und industrielle Einflüsse.
URL:https://www.meinplaner.com
DTSTART;TZID=Europe/Amsterdam:20260513T180000
DTEND;TZID=Europe/Amsterdam:20260513T200000
LOCATION:Pflockenstraße  28\, 09376 Oelsnitz/Erzgeb.
BEGIN:VALARM
ACTION:DISPLAY
DESCRIPTION:Erinnerung: Bergmann­stammtisch: Erzgebirgische Waldgeschichte
  beginnt in 1 Stunde
TRIGGER;RELATED=END:-PT1H
END:VALARM
END:VEVENT
END:VCALENDAR
