BEGIN:VCALENDAR
PRODID:-//eluceo/ical//2.0/EN
VERSION:2.0
CALSCALE:GREGORIAN
BEGIN:VEVENT
UID:90823406d4d689c368c2bb65c0d95356
DTSTAMP:20260421T103439Z
SUMMARY:Frisch\, frech und unglaublich lecker
DESCRIPTION:Die Gäste können sich auf eine Mischung aus Tradition und fan
 tasiereicher Küche freuen. Außerdem erleben sie hautnah\, wenn das Küch
 enteam am zentralen offenen Grill verschiedene Fleischgerichte aus der Reg
 ion Sachsen und Deutschland zubereitet.
URL:https://www.meinplaner.com
DTSTART;TZID=Europe/Amsterdam:20260421T170000
DTEND;TZID=Europe/Amsterdam:20260421T220000
LOCATION:Schönherrstr. 8\, 09113 Chemnitz
BEGIN:VALARM
ACTION:DISPLAY
DESCRIPTION:Erinnerung: Frisch\, frech und unglaublich lecker beginnt in 1 
 Stunde
TRIGGER;RELATED=END:-PT1H
END:VALARM
END:VEVENT
END:VCALENDAR
