BEGIN:VCALENDAR
PRODID:-//eluceo/ical//2.0/EN
VERSION:2.0
CALSCALE:GREGORIAN
BEGIN:VEVENT
UID:f678d1ba721a989b501f44f0d215f01b
DTSTAMP:20260424T113450Z
SUMMARY:Skat & Bier
DESCRIPTION:Jeden Mittwoch werden beim Skatspielen die Karten auf den Tisch
  gelegt\, während ein kühles Bier genossen wird\; Gleichgesinnte treffen
  sich in geselliger Runde\, um spannende Partien zu erleben und den Nachmi
 ttag gemeinsam zu verbringen.
URL:https://www.meinplaner.com
DTSTART;TZID=Europe/Amsterdam:20260429T130000
DTEND;TZID=Europe/Amsterdam:20260429T150000
LOCATION:Schlachthofstr. 7\, 09366 Stollberg/Erzgeb.
BEGIN:VALARM
ACTION:DISPLAY
DESCRIPTION:Erinnerung: Skat & Bier beginnt in 1 Stunde
TRIGGER;RELATED=END:-PT1H
END:VALARM
END:VEVENT
END:VCALENDAR
