BEGIN:VCALENDAR
PRODID:-//eluceo/ical//2.0/EN
VERSION:2.0
CALSCALE:GREGORIAN
BEGIN:VEVENT
UID:264079245432c97cc3e07787cc24fb6d
DTSTAMP:20260423T112159Z
SUMMARY:Lee Cronin‘s The Mummy
DESCRIPTION:Das scheinbar perfekte Familienglück von Charlie und seiner Fr
 au wird auf die Probe gestellt\, als ihre Tochter Katie nach einem mysteri
 ösen Fluch verschwindet\, nur um Jahre später mit einer dunklen Macht zu
 rückzukehren und die Familie in Gefahr zu bringen.
URL:https://www.meinplaner.com
DTSTART;TZID=Europe/Amsterdam:20260423T171500
DTEND;TZID=Europe/Amsterdam:20260423T191500
LOCATION:Poetenweg 6-8\, 08056 Zwickau
BEGIN:VALARM
ACTION:DISPLAY
DESCRIPTION:Erinnerung: Lee Cronin‘s The Mummy beginnt in 1 Stunde
TRIGGER;RELATED=END:-PT1H
END:VALARM
END:VEVENT
BEGIN:VEVENT
UID:287ad3a5bbb297d6aa9a62e776ede291
DTSTAMP:20260423T112159Z
SUMMARY:Lee Cronin‘s The Mummy
DESCRIPTION:Das scheinbar perfekte Familienglück von Charlie und seiner Fr
 au wird auf die Probe gestellt\, als ihre Tochter Katie nach einem mysteri
 ösen Fluch verschwindet\, nur um Jahre später mit einer dunklen Macht zu
 rückzukehren und die Familie in Gefahr zu bringen.
URL:https://www.meinplaner.com
DTSTART;TZID=Europe/Amsterdam:20260423T195000
DTEND;TZID=Europe/Amsterdam:20260423T215000
LOCATION:Poetenweg 6-8\, 08056 Zwickau
BEGIN:VALARM
ACTION:DISPLAY
DESCRIPTION:Erinnerung: Lee Cronin‘s The Mummy beginnt in 1 Stunde
TRIGGER;RELATED=END:-PT1H
END:VALARM
END:VEVENT
END:VCALENDAR
