BEGIN:VCALENDAR
PRODID:-//eluceo/ical//2.0/EN
VERSION:2.0
CALSCALE:GREGORIAN
BEGIN:VEVENT
UID:176846c4b5c342aa149dd9cdfe2635aa
DTSTAMP:20260423T005947Z
SUMMARY:28. Chemnitzer Schultheaterwoche: Die Welle
DESCRIPTION:Lehrer Ben Ross kann die Fragen seiner Klasse nicht beantworten
 : Waren 1933 alle Deutschen Nazis? Wie konnte der Holocaust geschehen? Er 
 startet ein Experiment über Macht\, Disziplin + Gemeinschaft und zeigt\, 
 wie schnell Gruppenzwang Menschen beeindrucken kann.
URL:https://www.meinplaner.com
DTSTART;TZID=Europe/Amsterdam:20260423T180000
DTEND;TZID=Europe/Amsterdam:20260423T200000
LOCATION:Altchemnitzer Str. 27\, 09120 Chemnitz
BEGIN:VALARM
ACTION:DISPLAY
DESCRIPTION:Erinnerung: 28. Chemnitzer Schultheaterwoche: Die Welle beginnt
  in 1 Stunde
TRIGGER;RELATED=END:-PT1H
END:VALARM
END:VEVENT
END:VCALENDAR
