BEGIN:VCALENDAR
PRODID:-//eluceo/ical//2.0/EN
VERSION:2.0
CALSCALE:GREGORIAN
BEGIN:VEVENT
UID:02715f24f23e25a193f5f58ea8ae558b
DTSTAMP:20260420T024043Z
SUMMARY:Imperia Zwickau Retro Night
DESCRIPTION:Zurück in die 90er & 2000er: Die größten Klassiker treffen a
 uf pure Party-Vibes und ausgelassene Stimmung. Mit Retro Maniac & Kristina
  Silver erwartet euch ein Abend voller Nostalgie\, Tanz und unvergessliche
 r Momente. 🎧🔥
URL:https://www.meinplaner.com
DTSTART;TZID=Europe/Amsterdam:20260516T220000
DTEND;TZID=Europe/Amsterdam:20260517T043000
LOCATION:Humboldtstr. 14\, 08056 Zwickau
BEGIN:VALARM
ACTION:DISPLAY
DESCRIPTION:Erinnerung: Imperia Zwickau Retro Night beginnt in 1 Stunde
TRIGGER;RELATED=END:-PT1H
END:VALARM
END:VEVENT
END:VCALENDAR
