BEGIN:VCALENDAR
PRODID:-//eluceo/ical//2.0/EN
VERSION:2.0
CALSCALE:GREGORIAN
BEGIN:VEVENT
UID:7437252d5f0eaf7b4497856bf4fd5273
DTSTAMP:20260419T225924Z
SUMMARY:Gaumenfreuden und Historie im Fachwerk
DESCRIPTION:Auf historischem Grund in unmittelbarer Nähe zum Schlossteich 
 liegt ein aufwändig saniertes Gebäude der früheren "Schlossmühle". Im 
 rustikal gehaltenen Gastraum über drei Etagen werden von Pilzrahmsuppe ü
 ber Gänseleber bis zum Karpfen Gaumenfreuden serviert.
URL:https://www.meinplaner.com
DTSTART;TZID=Europe/Amsterdam:20260420T110000
DTEND;TZID=Europe/Amsterdam:20260420T230000
LOCATION:Schloßberg  3\, 09113 Chemnitz
BEGIN:VALARM
ACTION:DISPLAY
DESCRIPTION:Erinnerung: Gaumenfreuden und Historie im Fachwerk beginnt in 1
  Stunde
TRIGGER;RELATED=END:-PT1H
END:VALARM
END:VEVENT
END:VCALENDAR
